BEGIN:VCALENDAR
VERSION:2.0
PRODID:-//Microsoft Corporation//Outlook 11.0 MIMEDIR//EN
METHOD:PUBLISH
BEGIN:VEVENT
CLASS:PUBLIC
CATEGORIES:Music
DTSTAMP:20260425224537Z
UID:americanspiritualensemble2601101900-1777157137@choralarts-newengland.org
DTSTART:20260111T000000Z
DTEND:20260111T020000Z
SUMMARY:American Spiritual Ensemble: \"A celebration of the roots of American
  negro spirituals\"
LOCATION:Mechanics Hall\, 321 Main Street\, Worcester MA 01608
URL:http://www.americanspiritualensemble.com
DESCRIPTION:Founded by Everett McCorvey\, Music Worcester’s 2026
  Artist-in-Residence\, American Spiritual Ensemble performs across the
  world celebrating the roots of American music – the negro Spiritual.
  Negro spirituals are folk songs that emerged in the American South and
  were passed through oral tradition\, shared in and outside the church.
  For more information\, call 508-754-3231 email info@musicworcester.org.
END:VEVENT
END:VCALENDAR
