BEGIN:VCALENDAR
VERSION:2.0
PRODID:-//Microsoft Corporation//Outlook 11.0 MIMEDIR//EN
METHOD:PUBLISH
BEGIN:VEVENT
CLASS:PUBLIC
CATEGORIES:Music
DTSTAMP:20260423162721Z
UID:artsempoweringlifegloriaedeicantores2605301930-1776961641@choralarts-newengland.org
DTSTART:20260530T233000Z
DTEND:20260531T013000Z
SUMMARY:Arts Empowering Life: Gloriae Dei Cantores: \"St. Matthew Passion\"
LOCATION:Church of the Transfiguration\, 5 Bay View Drive\, Orleans MA 02653
URL:http://artsempoweringlife.org/ael-events/
DESCRIPTION:J. S. Bach: St. Matthew Passion\, BWV 244\, for solo voices\, double
  choir and double orchestra. Richard K. Pugsley\, director. With Creare
  Symphonia and internationally acclaimed soloists. Free admission for
  students & youth. For more information\, call 508-240-2400 email
  publicity@artsempoweringlife.org.
END:VEVENT
END:VCALENDAR
