BEGIN:VCALENDAR
VERSION:2.0
PRODID:-//Microsoft Corporation//Outlook 11.0 MIMEDIR//EN
METHOD:PUBLISH
BEGIN:VEVENT
CLASS:PUBLIC
CATEGORIES:Music
DTSTAMP:20260422022502Z
UID:assabetvalleymastersingers2605091930-1776824702@choralarts-newengland.org
DTSTART:20260509T233000Z
DTEND:20260510T013000Z
SUMMARY:Assabet Valley Mastersingers: \"The Time Has Come\"
LOCATION:Algonquin Regional High School\, 79 Bartlett Street\, Northborough MA
  01532
URL:http://www.avmsingers.org
DESCRIPTION:Ēriks Ešenvalds: The Time Has Come\; Randall Thompson: The Peaceable
  Kingdom\; Margaret Bonds: Credo\; Jake Runestad: The Hope of Loving. With
  string quartet. Tickets: $25\, $20 for seniors/students\, free for
  children under 12 with adult. For more information\, call 314-495-2258
  email manager@avmsingers.org.
END:VEVENT
END:VCALENDAR
