BEGIN:VCALENDAR
VERSION:2.0
PRODID:-//Microsoft Corporation//Outlook 11.0 MIMEDIR//EN
METHOD:PUBLISH
BEGIN:VEVENT
CLASS:PUBLIC
CATEGORIES:Music
DTSTAMP:20260421110227Z
UID:blueheron2510251500-1776769347@choralarts-newengland.org
DTSTART:20251025T190000Z
DTEND:20251025T210000Z
SUMMARY:Blue Heron: \"A Celebration of German Poetry & Song\, c. 1150-1450\"
LOCATION:First Church In Cambridge\, 11 Garden Street\, Cambridge MA 02138
URL:http://www.blueheron.org/
DESCRIPTION:Poetry and music by Walther von der Vogelweide\, Neidhart\, the Monk of
  Salzburg\, and Oswald von Wolkenstein\, as well as anonymous works from
  the Glogauer and Lochamer songbooks and the Buxheimer organ book.
  Priscilla Herreid\, director. With winds\, brass\, and strings from the
  Philadelphia ensemble Piffaro. For more information\, call 617-960-7956
  email office@blueheronchoir.org.
END:VEVENT
END:VCALENDAR
