BEGIN:VCALENDAR
VERSION:2.0
PRODID:-//Microsoft Corporation//Outlook 11.0 MIMEDIR//EN
METHOD:PUBLISH
BEGIN:VEVENT
CLASS:PUBLIC
CATEGORIES:Music
DTSTAMP:20260421123631Z
UID:blueheron2512171900-1776774991@choralarts-newengland.org
DTSTART:20251218T000000Z
DTEND:20251218T020000Z
SUMMARY:Blue Heron: \"Christmas in 16th-Century Spain concert and conversation
  with Meghna Chakrabarti\"
LOCATION:WBUR CitySpace\, 890 Commonwealth Avenue\, Boston MA 02215
URL:http://www.wbur.org/events/1031624/blue-heron-christmas-in-16th-century-spain-concert
DESCRIPTION:A celebration of Christmas in 16th-century Spain\, featuring motets by
  Cristóbal de Morales\, villancicos by Francisco Guerrero and Mateo
  Flecha’s “La Bomba.” Also\, Artistic director Scott Metcalfe will
  discuss the music with On Point host Meghna Chakrabarti. Tickets: $20\,
  $30 premiere\, $10 student. For more information\, call 617-960-7956
  email office@blueheronchoir.org.
END:VEVENT
END:VCALENDAR
