BEGIN:VCALENDAR
VERSION:2.0
PRODID:-//Microsoft Corporation//Outlook 11.0 MIMEDIR//EN
METHOD:PUBLISH
BEGIN:VEVENT
CLASS:PUBLIC
CATEGORIES:Music
DTSTAMP:20260421123450Z
UID:blueheron2512202000-1776774890@choralarts-newengland.org
DTSTART:20251221T010000Z
DTEND:20251221T030000Z
SUMMARY:Blue Heron: \"Christmas in 16th-Century Spain\"
LOCATION:First Church In Cambridge\, 11 Garden Street\, Cambridge MA 02138
URL:http://www.blueheron.org/
DESCRIPTION:mystical motets by Morales\, vivacious villancicos by Guerrero\, and a
  dash of comedy—Mateo Flecha’s rollicking tale of a shipwreck on
  Christmas Day\, La Bomba. Tickets $11.50-$95.50. For more information\,
  call 617-960-7956 email office@blueheronchoir.org.
END:VEVENT
END:VCALENDAR
