BEGIN:VCALENDAR
VERSION:2.0
PRODID:-//Microsoft Corporation//Outlook 11.0 MIMEDIR//EN
METHOD:PUBLISH
BEGIN:VEVENT
CLASS:PUBLIC
CATEGORIES:Music
DTSTAMP:20260421161032Z
UID:blueheron2602201930-1776787832@choralarts-newengland.org
DTSTART:20260221T003000Z
DTEND:20260221T023000Z
SUMMARY:Blue Heron: \"In Praise of Laura Peverara: Madrigals for the Concerto
  delle donne\"
LOCATION:Edwards Church\, 297 Main Street\, Northampton MA 01060
URL:http://www.blueheron.org/
DESCRIPTION:Madrigals from two anthologies compiled in the 1580s by Laura Peverara\,
  including music by Wert\, Marenzio\, Luzzaschi\, and others. For more
  information\, call 617-960-7956 email office@blueheronchoir.org.
END:VEVENT
END:VCALENDAR
