BEGIN:VCALENDAR
VERSION:2.0
PRODID:-//Microsoft Corporation//Outlook 11.0 MIMEDIR//EN
METHOD:PUBLISH
BEGIN:VEVENT
CLASS:PUBLIC
CATEGORIES:Music
DTSTAMP:20260421142556Z
UID:blueheron2602212000-1776781556@choralarts-newengland.org
DTSTART:20260222T010000Z
DTEND:20260222T030000Z
SUMMARY:Blue Heron: \"In Praise of Laura Peverara: Madrigals for the Concerto
  delle donne\"
LOCATION:First Church In Cambridge\, 11 Garden Street\, Cambridge MA 02138
URL:http://www.blueheron.org/
DESCRIPTION:Madrigals from two anthologies compiled in the 1580s by Laura Peverara\,
  including music by Wert\, Marenzio\, Luzzaschi\, and others. For more
  information\, call 617-960-7956 email office@blueheronchoir.org.
END:VEVENT
END:VCALENDAR
