BEGIN:VCALENDAR
VERSION:2.0
PRODID:-//Microsoft Corporation//Outlook 11.0 MIMEDIR//EN
METHOD:PUBLISH
BEGIN:VEVENT
CLASS:PUBLIC
CATEGORIES:Music
DTSTAMP:20260421142622Z
UID:bostoncecilia2512051930-1776781582@choralarts-newengland.org
DTSTART:20251206T003000Z
DTEND:20251206T023000Z
SUMMARY:The Boston Cecilia: \"Blessed Cecilia\"
LOCATION:Church Of The Advent\, 30 Brimmer Street\, Boston MA 02108
URL:http://www.bostoncecilia.org
DESCRIPTION:Benjamin Britten: Hymn to Saint Cecilia\; Daniel Pinkham: Christmas
  Cantata for chorus\, brass ensemble\, and organ. For more information\,
  call 617-232-4540 email info@bostoncecilia.org.
END:VEVENT
END:VCALENDAR
