BEGIN:VCALENDAR
VERSION:2.0
PRODID:-//Microsoft Corporation//Outlook 11.0 MIMEDIR//EN
METHOD:PUBLISH
BEGIN:VEVENT
CLASS:PUBLIC
CATEGORIES:Music
DTSTAMP:20260421110345Z
UID:bostoncecilia2512071500-1776769425@choralarts-newengland.org
DTSTART:20251207T200000Z
DTEND:20251207T220000Z
SUMMARY:The Boston Cecilia: \"Blessed Cecilia\"
LOCATION:All Saints Parish\, 1773 Beacon Street\, Brookline MA 02445
URL:http://www.bostoncecilia.org
DESCRIPTION:Benjamin Britten: Hymn to Saint Cecilia\; Daniel Pinkham: Christmas
  Cantata for chorus\, brass ensemble\, and organ. For more information\,
  call 617-232-4540 email info@bostoncecilia.org.
END:VEVENT
END:VCALENDAR
