BEGIN:VCALENDAR
VERSION:2.0
PRODID:-//Microsoft Corporation//Outlook 11.0 MIMEDIR//EN
METHOD:PUBLISH
BEGIN:VEVENT
CLASS:PUBLIC
CATEGORIES:Music
DTSTAMP:20260421110437Z
UID:bostoncecilia2602221500-1776769477@choralarts-newengland.org
DTSTART:20260222T200000Z
DTEND:20260222T220000Z
SUMMARY:The Boston Cecilia: \"Feast of Remembrance\"
LOCATION:NEC's Jordan Hall\, 30 Gainsborough Street\, Boston MA 02115
URL:http://www.bostoncecilia.org
DESCRIPTION:JS Bach: Gloria\, BWV 191\; Cantata\, Gott\, man lobet dich in der
  Stille\, BWV 120.1\; and famous choruses from Handel’s oratorios. Carly
  DeFranco\, soprano\; Wee Kiat Chia\, countertenor\; Lawrence Jones\,
  tenor\; Junhan Choi\, baritone. With full Baroque orchestra. This concert
  is a tribute to the late Donald Teeters\, who guided Cecilia for almost a
  third of its 150 seasons. For more information\, call 617-232-4540 email
  info@bostoncecilia.org.
END:VEVENT
END:VCALENDAR
