BEGIN:VCALENDAR
VERSION:2.0
PRODID:-//Microsoft Corporation//Outlook 11.0 MIMEDIR//EN
METHOD:PUBLISH
BEGIN:VEVENT
CLASS:PUBLIC
CATEGORIES:Music
DTSTAMP:20260420094540Z
UID:choralartsocietyofthesouthshore2512071600-1776678340@choralarts-newengland.org
DTSTART:20251207T210000Z
DTEND:20251207T230000Z
SUMMARY:Choral Art Society of the South Shore: \"Winter Light\"
LOCATION:St. Luke's Episcopal Church\, 465 First Parish Road\, Scituate MA 02066
URL:http://www.choralartsociety.org
DESCRIPTION:We celebrate both tradition and discovery\, with Handel’s \"For Unto Us
  a Child Is Born\"\, Bach’s Gloria in excelsis Deo\, and songs including
  \"Light in the Heart of Winter\"\, \"Night of Silence\"\, \"Winter
  Bluejay\"\, as well as carols and seasonal favorites. For more
  information\, call 781-925-6095 email choralartsociety@yahoo.com.
END:VEVENT
END:VCALENDAR
