BEGIN:VCALENDAR
VERSION:2.0
PRODID:-//Microsoft Corporation//Outlook 11.0 MIMEDIR//EN
METHOD:PUBLISH
BEGIN:VEVENT
CLASS:PUBLIC
CATEGORIES:Music
DTSTAMP:20260423095115Z
UID:danburyconcertchorus2510251600-1776937875@choralarts-newengland.org
DTSTART:20251025T200000Z
DTEND:20251025T220000Z
SUMMARY:Danbury Concert Chorus: \"Elijah\"
LOCATION:First Congregational Church\, 164 Deer Hill Avenue\, Danbury CT 06810
URL:http://www.danburymusiccentre.org
DESCRIPTION:Feliz Mendelssohn: Elijah (abridged version). Olivia Ottinger\,
  mezzosoprano\; Nigel Smith\, bass\; Joshua Ehlebracht\, organ\; John
  Cuk\, conductor. For more information\, call 203-748-1716 email
  dmc@danburymusiccentre.org.
END:VEVENT
END:VCALENDAR
