BEGIN:VCALENDAR
VERSION:2.0
PRODID:-//Microsoft Corporation//Outlook 11.0 MIMEDIR//EN
METHOD:PUBLISH
BEGIN:VEVENT
CLASS:PUBLIC
CATEGORIES:Music
DTSTAMP:20260425221230Z
UID:greaterbostonchapter2509271200-1777155150@choralarts-newengland.org
DTSTART:20250927T160000Z
DTEND:20250927T180000Z
SUMMARY:Greater Boston Chapter\, Barbershop Harmony Society: \"2025 Boston A
  Cappella Festival\"
LOCATION:Herter Park Amphitheatre\, 1175 Soldiers Field Rd\, Boston MA 02134
URL:http://www.vocalrevolution.org/boston-a-cappella-festival-2025
DESCRIPTION:A free\, public\, outdoor arts event that celebrates the human voice and
  its ability to produce high-quality and genuine musical experiences.
  Genres include barbershop\, madrigals\, modern\, jazz\, oldies\, and
  more. The festival showcases community ensembles from high schoolers to
  seniors\, from Springfield to Providence to Boston Metro West. Festival
  date Sept. 27\, rain date Sept. 28. For more information\, call
  339-970-8720 email festival@vocalrevolution.org.
END:VEVENT
END:VCALENDAR
