BEGIN:VCALENDAR
VERSION:2.0
PRODID:-//Microsoft Corporation//Outlook 11.0 MIMEDIR//EN
METHOD:PUBLISH
BEGIN:VEVENT
CLASS:PUBLIC
CATEGORIES:Music
DTSTAMP:20260425170107Z
UID:newhampshiregaymenschorus2605031600-1777136467@choralarts-newengland.org
DTSTART:20260503T200000Z
DTEND:20260503T220000Z
SUMMARY:New Hampshire Gay Men's Chorus: \"Love\, Pride & Hope\"
LOCATION:St. Thomas Church\, 9 W Wheelock Street\, Hanover NH 03755
URL:http://www.nhgmc.com
DESCRIPTION:NHGMC's spring concert series. For more information\, call 603-263-4333
  email chorus@nhgmc.com.
END:VEVENT
END:VCALENDAR
