BEGIN:VCALENDAR
VERSION:2.0
PRODID:-//Microsoft Corporation//Outlook 11.0 MIMEDIR//EN
METHOD:PUBLISH
BEGIN:VEVENT
CLASS:PUBLIC
CATEGORIES:Music
DTSTAMP:20260425185030Z
UID:newhampshiregaymenschorus2605091900-1777143030@choralarts-newengland.org
DTSTART:20260509T230000Z
DTEND:20260510T010000Z
SUMMARY:New Hampshire Gay Men's Chorus: \"Love\, Pride & Hope\"
LOCATION:Capital Center for The Arts\, BNH Stage\, 16 S Main Street\, Concord NH
  03301
URL:http://www.nhgmc.com
DESCRIPTION:NHGMC's spring concert series. For more information\, call 603-263-4333
  email chorus@nhgmc.com.
END:VEVENT
END:VCALENDAR
