BEGIN:VCALENDAR
VERSION:2.0
PRODID:-//Microsoft Corporation//Outlook 11.0 MIMEDIR//EN
METHOD:PUBLISH
BEGIN:VEVENT
CLASS:PUBLIC
CATEGORIES:Music
DTSTAMP:20260425170125Z
UID:newhampshiregaymenschorus2605161900-1777136485@choralarts-newengland.org
DTSTART:20260516T230000Z
DTEND:20260517T010000Z
SUMMARY:New Hampshire Gay Men's Chorus: \"Love\, Pride & Hope\"
LOCATION:Christ the King Lutheran Church\, 3 Lutheran Drive\, Nashua NH 03063
URL:http://www.nhgmc.com
DESCRIPTION:NHGMC's spring concert series. For more information\, call 603-263-4333
  email chorus@nhgmc.com.
END:VEVENT
END:VCALENDAR
