BEGIN:VCALENDAR
VERSION:2.0
PRODID:-//Microsoft Corporation//Outlook 11.0 MIMEDIR//EN
METHOD:PUBLISH
BEGIN:VEVENT
CLASS:PUBLIC
CATEGORIES:Music
DTSTAMP:20260425170115Z
UID:newhampshiregaymenschorus2605171500-1777136475@choralarts-newengland.org
DTSTART:20260517T190000Z
DTEND:20260517T210000Z
SUMMARY:New Hampshire Gay Men's Chorus: \"Love\, Pride & Hope\"
LOCATION:The Rex Theatre\, 23 Amherst Street\, Manchester NH 03101
URL:http://www.nhgmc.com
DESCRIPTION:NHGMC's spring concert series. For more information\, call 603-263-4333
  email chorus@nhgmc.com.
END:VEVENT
END:VCALENDAR
