BEGIN:VCALENDAR
VERSION:2.0
PRODID:-//Microsoft Corporation//Outlook 11.0 MIMEDIR//EN
METHOD:PUBLISH
BEGIN:VEVENT
CLASS:PUBLIC
CATEGORIES:Music
DTSTAMP:20260421161423Z
UID:newworldchoralebach2509281600-1776788063@choralarts-newengland.org
DTSTART:20250928T200000Z
DTEND:20250928T220000Z
SUMMARY:New World Chorale / Bach\, Beethoven\, and Brahms Society: \"German
  Glow\"
LOCATION:United Parish In Brookline\, 210 Harvard Street\, Brookline MA 02446
URL:http://www.bbbsociety.org
DESCRIPTION:Felix Mendelssohn: Psalm 42\; Emilie Mayer: Overture in D minor\;
  Johannes Brahms: Symphony No. 2 in D major. Sonja Tengblad\, soprano\;
  Steven Lipsitt\, conductor. For more information\, call 617-991-8721
  email bbbsocietyinfo@gmail.com.
END:VEVENT
END:VCALENDAR
