BEGIN:VCALENDAR
VERSION:2.0
PRODID:-//Microsoft Corporation//Outlook 11.0 MIMEDIR//EN
METHOD:PUBLISH
BEGIN:VEVENT
CLASS:PUBLIC
CATEGORIES:Music
DTSTAMP:20260425185040Z
UID:southshorechildrenschorus2604251830-1777143040@choralarts-newengland.org
DTSTART:20260425T223000Z
DTEND:20260426T003000Z
SUMMARY:South Shore Children's Chorus: \"One Night Choir\"
LOCATION:Quincy Masonic Building\, 20 Greenleaf Street\, Quincy MA 02169
URL:http://www.southshorechildrenschorus.com
DESCRIPTION:We'll be singing \"Running Up That Hill\" by Kate Bush. One Night Choirs
  are a night of low pressure and low commitment for people who love to
  sing and want to make friends and engage in community. No audition or
  experience is required\, no performance - just singing together for fun!
  Singers of all ages and ability levels are welcome (any singer 12 or
  under must be accompanied by a participating adult). Kristin Oberoi\,
  director. General Admission: $20 For more information\, call 774-228-0493
  email info@sscchorus.org.
END:VEVENT
END:VCALENDAR
