BEGIN:VCALENDAR
VERSION:2.0
PRODID:-//Microsoft Corporation//Outlook 11.0 MIMEDIR//EN
METHOD:PUBLISH
BEGIN:VEVENT
CLASS:PUBLIC
CATEGORIES:Music
DTSTAMP:20260425185003Z
UID:thirdbaptistchurchoflawrence2509211330-1777143003@choralarts-newengland.org
DTSTART:20250921T173000Z
DTEND:20250921T193000Z
SUMMARY:Third Baptist Church of Lawrence\, MA: \"You are invited to Sing in the
  Christmas Choir – Open Rehearsals\"
LOCATION:Third Baptist Church\, 22 Warren Street\, Lawrence MA 01841
DESCRIPTION:Open Rehearsals for the Third Baptist Church of Lawrence\, MA 12th Annual
  Christmas Concert on December 14\, 2025 at Methuen Memorial Music Hall.
  All Voices are Welcome! RSVP by Sept 20 to sybgray@comcas.net. For more
  information\, call 508-745-2184 email sybgray@comcast.net.
END:VEVENT
END:VCALENDAR
