BEGIN:VCALENDAR
VERSION:2.0
PRODID:-//Microsoft Corporation//Outlook 11.0 MIMEDIR//EN
METHOD:PUBLISH
BEGIN:VEVENT
CLASS:PUBLIC
CATEGORIES:Music
DTSTAMP:20260423162729Z
UID:vocalrevolutionandvocamotionchoruses2605311400-1776961649@choralarts-newengland.org
DTSTART:20260531T180000Z
DTEND:20260531T200000Z
SUMMARY:Vocal Revolution and VocaMotion Choruses: \"Expedition Five: A Barbershop
  A Capella Space Opera\"
LOCATION:Arts at the Armory\, 191 Highland Avenue #1c\, Somerville MA 02143
URL:http://www.eventbrite.com/e/expedition-five-a-barbershop-a-cappella-space-opera-tickets-1986996795905?aff=oddtdtcreator
DESCRIPTION:In a distant future\, when Earth is nothing more than a hazy memory\,
  humanity wanders the endless universe in search of a new home. There’s
  only one person left who can find it. Expedition Five will transform
  Somerville’s Arts At The Armory into a thrilling and heartfelt journey
  through space. Vocal Revolution is the highest-ranked men’s chorus ever
  in the Northeastern District of the Barbershop Harmony Society\, with 20
  District Championship titles. VocaMotion is the only treble voices chorus
  in the District. For more information\, email
  marketing@vocalrevolution.org.
END:VEVENT
END:VCALENDAR
