BEGIN:VCALENDAR
VERSION:2.0
PRODID:-//Microsoft Corporation//Outlook 11.0 MIMEDIR//EN
METHOD:PUBLISH
BEGIN:VEVENT
CLASS:PUBLIC
CATEGORIES:Music
DTSTAMP:20260422045419Z
UID:spectrumsingers2511221930-1776833659@choralarts-newengland.org
DTSTART:20251123T003000Z
DTEND:20251123T023000Z
SUMMARY:Spectrum Singers: \"To Saint Cecilia\"
LOCATION:First Church Congregational\, 11 Garden Street\, Cambridge MA 02138
URL:http://www.spectrumsingers.org
DESCRIPTION:A celebration of St. Cecilia on her feast day with music by composers who
  epitomized her spirit. Lili Boulanger: Prélude en Ré b\; Soir sur la
  plaine\; Herbert Howells: A Hymn for St Cecilia\; Johannes Brahms: Drei
  Quartette\, Op. 64\; Maria Bach: Streichquintett\, II. Thème e
  variations\; Giovanni Pierluigi da Palestrina: Cantantibus organis\;
  Henry Purcell: \"Hail! Bright Cecilia\"\, Z. 328 (Selections). Carley
  DeFranco\, soprano\; Krista River\, mezzo-soprano\; Connor Vigeant\,
  tenor\; Jonas Budris\, tenor\; Daniel Fridley\, bass\; Susan Jensen and
  Amy Simms\, violin\; Mark Berger\, viola\; Kett Lee and Carol Ou\,
  cello\; Max Holman\, music director (debut concert). For more
  information\, call 617-492-8902 email info@spectrumsingers.org.
END:VEVENT
END:VCALENDAR
