BEGIN:VCALENDAR
VERSION:2.0
PRODID:-//Microsoft Corporation//Outlook 11.0 MIMEDIR//EN
METHOD:PUBLISH
BEGIN:VEVENT
CLASS:PUBLIC
CATEGORIES:Music
DTSTAMP:20260420052417Z
UID:chorusnorthshore2512131900-1776662657@choralarts-newengland.org
DTSTART:20251214T000000Z
DTEND:20251214T020000Z
SUMMARY:Chorus North Shore: \"Mozart's Requiem\"
LOCATION:Our Lady Of Hope Church\, 1 Pineswamp Road\, Ipswich MA 01938
URL:http://www.chorusnorthshore.org
DESCRIPTION:W.A. Mozart: Requiem\; Ralph Vaughan Williams: Fantasia on Christmas
  Carols. Beth Hagan-Haltmeier\, soprano\; Alexandra Dietrich\,
  mezzo-soprano\; Thomas Smoker\, tenor\; Andrew Scoglio\, baritone.
  Tickets: $35\, senior/student $23. For more information\, call
  978-356-3453 email info@chorusnorthshore.org.
END:VEVENT
END:VCALENDAR
