BEGIN:VCALENDAR
VERSION:2.0
PRODID:-//Microsoft Corporation//Outlook 11.0 MIMEDIR//EN
METHOD:PUBLISH
BEGIN:VEVENT
CLASS:PUBLIC
CATEGORIES:Music
DTSTAMP:20260421193054Z
UID:concora2601241400-1776799854@choralarts-newengland.org
DTSTART:20260124T190000Z
DTEND:20260124T210000Z
SUMMARY:CONCORA: \"BIG SING\"
LOCATION:Westminster Presbyterian Church\, 2080 Boulevard\, West Hartford CT 06107
URL:http://www.concora.org
DESCRIPTION:The BIG SING connects vocalists together in multiple locations across the
  state to sing choruses from the same well-loved work. For
  January-February 2026\, the choruses will all be from Mendelssohn's
  Elijah. An optional and encouraged vocal workshop\, designed for
  avocational singers\, will begin each event. Listed event time is for the
  workshop\; the group sing begins one hour later. For more information\,
  call 860-293-0567 email contact@concora.org.
END:VEVENT
END:VCALENDAR
