BEGIN:VCALENDAR
VERSION:2.0
PRODID:-//Microsoft Corporation//Outlook 11.0 MIMEDIR//EN
METHOD:PUBLISH
BEGIN:VEVENT
CLASS:PUBLIC
CATEGORIES:Music
DTSTAMP:20260421192427Z
UID:concora2601311500-1776799467@choralarts-newengland.org
DTSTART:20260131T200000Z
DTEND:20260131T220000Z
SUMMARY:CONCORA: \"BIG SING\"
LOCATION:First Congregational Church of Madison\, 26 Meeting House Lane\, Madison
  CT 06443
URL:http://www.concora.org
DESCRIPTION:The BIG SING connects vocalists together in multiple locations across the
  state to sing choruses from the same well-loved work. For
  January-February 2026\, the choruses will all be from Mendelssohn's
  Elijah. An optional and encouraged vocal workshop\, designed for
  avocational singers\, will begin each event. Listed event time is for the
  workshop\; the group sing begins one hour later. For more information\,
  call 860-293-0567 email contact@concora.org.
END:VEVENT
END:VCALENDAR
