BEGIN:VCALENDAR
VERSION:2.0
PRODID:-//Microsoft Corporation//Outlook 11.0 MIMEDIR//EN
METHOD:PUBLISH
BEGIN:VEVENT
CLASS:PUBLIC
CATEGORIES:Music
DTSTAMP:20260421192915Z
UID:concora2602011500-1776799755@choralarts-newengland.org
DTSTART:20260201T200000Z
DTEND:20260201T220000Z
SUMMARY:CONCORA: \"BIG SING\"
LOCATION:St. John's Episcopal Church\, ​628 Main Street\, Stamford CT 06901
URL:http://www.concora.org
DESCRIPTION:The BIG SING connects vocalists together in multiple locations across the
  state to sing choruses from the same well-loved work. For
  January-February 2026\, the choruses will all be from Mendelssohn's
  Elijah. An optional and encouraged vocal workshop\, designed for
  avocational singers\, will begin each event. Listed event time is for the
  workshop\; the group sing begins one hour later. For more information\,
  call 860-293-0567 email contact@concora.org.
END:VEVENT
END:VCALENDAR
