BEGIN:VCALENDAR
VERSION:2.0
PRODID:-//Microsoft Corporation//Outlook 11.0 MIMEDIR//EN
METHOD:PUBLISH
BEGIN:VEVENT
CLASS:PUBLIC
CATEGORIES:Music
DTSTAMP:20260421161215Z
UID:concoraconnecticutchoralartists2510231930-1776787935@choralarts-newengland.org
DTSTART:20251023T233000Z
DTEND:20251024T013000Z
SUMMARY:CONCORA (Connecticut Choral Artists): \"CONCORA & Baroklyn\"
LOCATION:University of Hartford\, 300 Bloomfield Ave\, West Hartford CT 06117
URL:http://www.concora.org
DESCRIPTION:J.S. Bach: Cantata\, Es ist das Heil uns kommen her\, BWV 9\;
  Chorale-Preludes from Cantatas BWV 99\, 22 & 182\; Keyboard Concerto in E
  Major\, BWV 1053. Simone Dinnerstein\, piano and conductor\, with her
  chamber ensemble Baroklyn. For more information\, call 860-293-0567 email
  contact@concora.org.
END:VEVENT
END:VCALENDAR
