BEGIN:VCALENDAR
VERSION:2.0
PRODID:-//Microsoft Corporation//Outlook 11.0 MIMEDIR//EN
METHOD:PUBLISH
BEGIN:VEVENT
CLASS:PUBLIC
CATEGORIES:Music
DTSTAMP:20260421161225Z
UID:concoraconnecticutchoralartists2511301600-1776787945@choralarts-newengland.org
DTSTART:20251130T210000Z
DTEND:20251130T230000Z
SUMMARY:CONCORA (Connecticut Choral Artists): \"Handel's Messiah & ​Carol
  Sing\"
LOCATION:Church Of St. Peter Claver\, 47 Pleasant Street\, West Hartford CT 06107
URL:http://www.concora.org
DESCRIPTION:G.F. Handel\, Messiah\, Christmas portion and “Hallelujah\" Chorus.
  With chamber orchestra and soloists. Followed by a carol sing with the
  audience. For more information\, call 860-293-0567 email
  contact@concora.org.
END:VEVENT
END:VCALENDAR
