BEGIN:VCALENDAR
VERSION:2.0
PRODID:-//Microsoft Corporation//Outlook 11.0 MIMEDIR//EN
METHOD:PUBLISH
BEGIN:VEVENT
CLASS:PUBLIC
CATEGORIES:Music
DTSTAMP:20260421193249Z
UID:connecticutchoralartists2509131900-1776799969@choralarts-newengland.org
DTSTART:20250913T230000Z
DTEND:20250914T010000Z
SUMMARY:Connecticut Choral Artists: \"An American Requiem\"
LOCATION:St. John's Episcopal Church\, 628 Main Street\, Stamford CT 06901
URL:http://www.concora.org
DESCRIPTION:Edward Tyler: An American Requiem\, a work that reflects on the school
  gun violence epidemic in America. For more information\, call
  860-293-0567 email contact@concora.org.
END:VEVENT
END:VCALENDAR
