BEGIN:VCALENDAR
VERSION:2.0
PRODID:-//Microsoft Corporation//Outlook 11.0 MIMEDIR//EN
METHOD:PUBLISH
BEGIN:VEVENT
CLASS:PUBLIC
CATEGORIES:Music
DTSTAMP:20260421161324Z
UID:handelandhaydnsociety2512181930-1776788004@choralarts-newengland.org
DTSTART:20251219T003000Z
DTEND:20251219T023000Z
SUMMARY:Handel and Haydn Society: \"Baroque Christmas\"
LOCATION:NEC's Jordan Hall\, 30 Gainsborough Street\, Boston MA 02115
URL:http://www.handelandhaydn.org
DESCRIPTION:Christoph Graupner: Magnificat in C Major\; J.L. Bach: Uns ist ein Kind
  geboren\; Sanctus in C Major\, BWV 237\; Cantata 63\, Christen\, ätzet
  diesen Tag. Scott Allen Jarrett\, conductor. For more information\, call
  617-262-1815 email info@handelandhaydn.org.
END:VEVENT
END:VCALENDAR
