BEGIN:VCALENDAR
VERSION:2.0
PRODID:-//Microsoft Corporation//Outlook 11.0 MIMEDIR//EN
METHOD:PUBLISH
BEGIN:VEVENT
CLASS:PUBLIC
CATEGORIES:Music
DTSTAMP:20260424093615Z
UID:mainemusicsocietychorale2605101400-1777023375@choralarts-newengland.org
DTSTART:20260510T180000Z
DTEND:20260510T200000Z
SUMMARY:The Maine Music Society Chorale: \"The Maine Music Society Chorale
  Presents: Reflections on Water\"
LOCATION:Franco Center\, 46 Cedar Street\, Lewiston ME 04240
URL:http://www.mainemusicsociety.org
DESCRIPTION:From the crashing waves of the open sea to the quiet lapping of a
  lakeshore\, water has long stirred the imagination of songwriters and
  sailors alike. This program includes sea shanties\, maritime folk
  ballads\, and modern pop hits that explore water’s symbolism\, beauty\,
  and mystery. Dr. Richard Nickerson\, director\; Randy Day\, piano. For
  more information\, call 207-333-3386 email info@mainemusicsociety.org.
END:VEVENT
END:VCALENDAR
