BEGIN:VCALENDAR
VERSION:2.0
PRODID:-//Microsoft Corporation//Outlook 11.0 MIMEDIR//EN
METHOD:PUBLISH
BEGIN:VEVENT
CLASS:PUBLIC
CATEGORIES:Music
DTSTAMP:20260426001457Z
UID:masterworkschorale2512192000-1777162497@choralarts-newengland.org
DTSTART:20251220T010000Z
DTEND:20251220T030000Z
SUMMARY:Masterworks Chorale: \"Messiah Sings\"
LOCATION:Cary Hall\, 1605 Mass Ave.\, Lexington\, MA\, Lexington MA 02420
URL:http://www.masterworkschorale.org
DESCRIPTION:The public is invited to bring their score or borrow ours and enjoy this
  annual holiday tradition. Conducted by Music Director Kevin Leong with
  full orchestra and soloists. This is the 65th Messiah Sing! For more
  information\, call 978-204-5452 email dbhempstead@gmail.com.
END:VEVENT
END:VCALENDAR
