BEGIN:VCALENDAR
VERSION:2.0
PRODID:-//Microsoft Corporation//Outlook 11.0 MIMEDIR//EN
METHOD:PUBLISH
BEGIN:VEVENT
CLASS:PUBLIC
CATEGORIES:Music
DTSTAMP:20260423095049Z
UID:newhavenchorale2602081600-1776937849@choralarts-newengland.org
DTSTART:20260208T210000Z
DTEND:20260208T230000Z
SUMMARY:New Haven Chorale: \"Deep from the Soul\"
LOCATION:Battelle Chapel\, 400 College Street\, New Haven CT 06511
URL:http://www.newhavenchorale.org
DESCRIPTION:Spirituals by William Dawson\, Moses Hogan\, and Stacey Gibbs\, as well
  as gospel selections by Richard Smallwood\, Rollo Dilworth\, André
  Thomas\, Maverick City Music\, and the William Chester Mass Choir. With
  Rev. Jeremiah Paul and the gospel group\, New Praize. The audience will
  be invited to join in singing several selections. For more information\,
  call 203-776-7664 email business@newhavenchorale.org.
END:VEVENT
END:VCALENDAR
