BEGIN:VCALENDAR
VERSION:2.0
PRODID:-//Microsoft Corporation//Outlook 11.0 MIMEDIR//EN
METHOD:PUBLISH
BEGIN:VEVENT
CLASS:PUBLIC
CATEGORIES:Music
DTSTAMP:20260425184953Z
UID:zamirchoraleofboston2606071700-1777142993@choralarts-newengland.org
DTSTART:20260607T210000Z
DTEND:20260607T230000Z
SUMMARY:Zamir Chorale of Boston: \"Sacred Musical Majesty\"
LOCATION:Central Reform Temple at Emmanuel Church\, 15 Newbury Street\, Boston MA
  02116
URL:http://zamir.org
DESCRIPTION:A concert of the greatest synagogue compositions of the 19th and early
  20th centuries\, including premiere performances of rediscovered
  liturgical masterworks by Cantor Helman Lieber. Joshua Jacobson\,
  Artistic Director\; Josh Breitzer\, Cantor\; Edwin Swanborn\, organ. For
  more information\, call 617-916-9469 email manager@zamir.org.
END:VEVENT
END:VCALENDAR
