BEGIN:VCALENDAR
VERSION:2.0
PRODID:-//Microsoft Corporation//Outlook 11.0 MIMEDIR//EN
METHOD:PUBLISH
BEGIN:VEVENT
CLASS:PUBLIC
CATEGORIES:Music
DTSTAMP:20260425203357Z
UID:zenithensemble2606271900-1777149237@choralarts-newengland.org
DTSTART:20260627T230000Z
DTEND:20260628T010000Z
SUMMARY:Zenith Ensemble: \"Monteverdi Vespers with period instruments\"
LOCATION:St. Bernard Church\, 185 Main Street\, Keene NH 03431
URL:http://thezenithensemble.com
DESCRIPTION:Claudio Monteverdi: Vespers of 1610\, widely considered one of the most
  extraordinary works of the early Baroque\, featuring period instruments
  and a unique collaboration of professional\, emerging professional\, and
  community musicians. For more information\, call 603-513-8818 email
  thezenithensemble@gmail.com.
END:VEVENT
END:VCALENDAR
