BEGIN:VCALENDAR
VERSION:2.0
PRODID:-//Microsoft Corporation//Outlook 11.0 MIMEDIR//EN
METHOD:PUBLISH
BEGIN:VEVENT
CLASS:PUBLIC
CATEGORIES:Music
DTSTAMP:20260421134957Z
UID:crescendo2512061600-1776779397@choralarts-newengland.org
DTSTART:20251206T210000Z
DTEND:20251206T230000Z
SUMMARY:Crescendo: \"The Bach Experience—Choral Music for the Spirit\"
LOCATION:Saint James Place\, 352 Main Street\, Great Barrington MA 01230
URL:http://crescendomusic.org/
DESCRIPTION:J.S. Bach: Christmas Cantata “Sweet Comfort“\, BWV 151\; Mass in G
  minor\, BWV 235\; and 16th century double choir motets including works by
  Bach’s German predecessors Schröter\, Weissensee\, Otto\, and Schein.
  With period orchestra. Jennifer Tyo\, soprano\; Nicholas Tamagna\,
  countertenor\; Pablo Bustos\, tenor\; Will Dereza\, baritone\; Christine
  Gevert\, director. With Crescendo Period Instrument Orchestra. For more
  information\, call 860-435-4866 email crescendo@crescendomusic.org.
END:VEVENT
END:VCALENDAR
