BEGIN:VCALENDAR
VERSION:2.0
PRODID:-//Microsoft Corporation//Outlook 11.0 MIMEDIR//EN
METHOD:PUBLISH
BEGIN:VEVENT
CLASS:PUBLIC
CATEGORIES:Music
DTSTAMP:20260423122139Z
UID:crescendo2512211600-1776946899@choralarts-newengland.org
DTSTART:20251221T210000Z
DTEND:20251221T230000Z
SUMMARY:Crescendo: \"A Tapestry of Traditions: Unraveling the History of
  Christmas Carols\"
LOCATION:Saint James Place\, 352 Main Street\, Great Barrington MA 01230
URL:http://crescendomusic.org/
DESCRIPTION:An exploration of the origins and development of Carols and Christmas
  songs that evolved over centuries\, and were adapted to different
  cultures. Audience members will be invited to participate in singing some
  of the familiar Holiday Songs. Crescendo Chorus and Vocal Ensemble
  Singers\, Christine Gevert\, organ and direction. For more information\,
  call 860-435-4866 email crescendo@crescendomusic.org.
END:VEVENT
END:VCALENDAR
